BEGIN:VCALENDAR
VERSION:2.0
PRODID:icalendar-ruby
CALSCALE:GREGORIAN
METHOD:PUBLISH
BEGIN:VEVENT
DTSTAMP:20260424T113648Z
UID:aa145936-97a4-47cf-b611-5c434d20d940
DTSTART;VALUE=DATE:20211114
DTEND;VALUE=DATE:20211114
DESCRIPTION:Chesapeake BMX
LOCATION:726 Donaldson Avenue  Severn MD 21144 USA
SUMMARY:Local Race Single
URL:/site/bmx_races/451410
END:VEVENT
END:VCALENDAR
