BEGIN:VCALENDAR
VERSION:2.0
PRODID:icalendar-ruby
CALSCALE:GREGORIAN
METHOD:PUBLISH
BEGIN:VEVENT
DTSTAMP:20260424T220340Z
UID:d4a76c67-e14f-43a6-a0e2-47506cd4c3f2
DTSTART;VALUE=DATE:20210926
DTEND;VALUE=DATE:20210926
DESCRIPTION:Chesapeake BMX
LOCATION:726 Donaldson Avenue  Severn MD 21144 USA
SUMMARY:Local Race Single
URL:/site/bmx_races/451396
END:VEVENT
END:VCALENDAR
