BEGIN:VCALENDAR
VERSION:2.0
PRODID:icalendar-ruby
CALSCALE:GREGORIAN
METHOD:PUBLISH
BEGIN:VEVENT
DTSTAMP:20260424T143910Z
UID:d8152a82-9467-4d5d-8c7c-3ba01595c643
DTSTART;VALUE=DATE:20201119
DTEND;VALUE=DATE:20201119
DESCRIPTION:Yucaipa BMX
LOCATION:32750 Thunderbird Way  Yucaipa CA 92399 USA
SUMMARY:Standard Single Single
URL:/site/bmx_races/451022
END:VEVENT
END:VCALENDAR
