BEGIN:VCALENDAR
VERSION:2.0
PRODID:icalendar-ruby
CALSCALE:GREGORIAN
METHOD:PUBLISH
BEGIN:VEVENT
DTSTAMP:20260424T160632Z
UID:b276e727-90e8-421f-9f58-2a0e45786923
DTSTART;VALUE=DATE:20210516
DTEND;VALUE=DATE:20210516
DESCRIPTION:Indy Cycloplex BMX
LOCATION:3649 Cold Spring Road  Adjacent To The Major Taylor Velodrome INDI
 ANAPOLIS IN 46222 USA
SUMMARY:State Race Double
URL:/site/bmx_races/450966
END:VEVENT
END:VCALENDAR
