BEGIN:VCALENDAR
VERSION:2.0
PRODID:icalendar-ruby
CALSCALE:GREGORIAN
METHOD:PUBLISH
BEGIN:VEVENT
DTSTAMP:20260425T202321Z
UID:5f76c159-9991-47b0-abb7-8363493f6071
DTSTART;VALUE=DATE:20211023
DTEND;VALUE=DATE:20211023
DESCRIPTION:Speedway BMX
LOCATION:5639 Benore  Toledo OH 43612 USA
SUMMARY:Local Race Single
URL:/site/bmx_races/450946
END:VEVENT
END:VCALENDAR
