BEGIN:VCALENDAR
VERSION:2.0
PRODID:icalendar-ruby
CALSCALE:GREGORIAN
METHOD:PUBLISH
BEGIN:VEVENT
DTSTAMP:20260425T210525Z
UID:8980d4f4-f51f-4c2e-b723-639b998e1965
DTSTART;VALUE=DATE:20201114
DTEND;VALUE=DATE:20201114
DESCRIPTION:Cornwall BMX
LOCATION:Guindon Park 3260 Vincent Massey Drive Cornwall ON K6H 5R6 CAN
SUMMARY:Standard Single Single
URL:/site/bmx_races/450782
END:VEVENT
END:VCALENDAR
