BEGIN:VCALENDAR
VERSION:2.0
PRODID:icalendar-ruby
CALSCALE:GREGORIAN
METHOD:PUBLISH
BEGIN:VEVENT
DTSTAMP:20260424T220417Z
UID:2338a96f-5929-4fe3-8bb3-8420580d1cd2
DTSTART;VALUE=DATE:20201112
DTEND;VALUE=DATE:20201112
DESCRIPTION:Rock City BMX
LOCATION:3300 10 Mile Road  Rockford MI 49341 USA
SUMMARY:Standard Single Single
URL:/site/bmx_races/450626
END:VEVENT
END:VCALENDAR
