BEGIN:VCALENDAR
VERSION:2.0
PRODID:icalendar-ruby
CALSCALE:GREGORIAN
METHOD:PUBLISH
BEGIN:VEVENT
DTSTAMP:20260424T094817Z
UID:b8208ed0-fe91-4aa9-904e-517ad68d6e4d
DTSTART;VALUE=DATE:20210425
DTEND;VALUE=DATE:20210425
DESCRIPTION:Chandler BMX
LOCATION:298 S Mc Queen Rd  Chandler AZ 85225 USA
SUMMARY:State Race Double
URL:/site/bmx_races/450585
END:VEVENT
END:VCALENDAR
