BEGIN:VCALENDAR
VERSION:2.0
PRODID:icalendar-ruby
CALSCALE:GREGORIAN
METHOD:PUBLISH
BEGIN:VEVENT
DTSTAMP:20260424T232558Z
UID:db1ee695-24a3-46a1-96b4-2d36e2e89f85
DTSTART;VALUE=DATE:20210710
DTEND;VALUE=DATE:20210710
DESCRIPTION:Marquette BMX
LOCATION:910 Hawley Street  Marquette MI 49855 USA
SUMMARY:Gold Cup Qualifier Triple
URL:/site/bmx_races/450545
END:VEVENT
END:VCALENDAR
