BEGIN:VCALENDAR
VERSION:2.0
PRODID:icalendar-ruby
CALSCALE:GREGORIAN
METHOD:PUBLISH
BEGIN:VEVENT
DTSTAMP:20260425T113648Z
UID:1a2d97c6-45c1-4619-b373-65d2b603f6bf
DTSTART;VALUE=DATE:20210706
DTEND;VALUE=DATE:20210706
DESCRIPTION:Air Time BMX
LOCATION:5051 S Frankwood Ave  Reedley CA 93654 USA
SUMMARY:Local Race Single
URL:/site/bmx_races/450115
END:VEVENT
END:VCALENDAR
