BEGIN:VCALENDAR
VERSION:2.0
PRODID:icalendar-ruby
CALSCALE:GREGORIAN
METHOD:PUBLISH
BEGIN:VEVENT
DTSTAMP:20260424T172223Z
UID:40a78890-15d4-4c30-a300-d19809b0ea7f
DTSTART;VALUE=DATE:20201024
DTEND;VALUE=DATE:20201024
DESCRIPTION:Wild Chile BMX
LOCATION:1600 East Hadley Ave  Las Cruces NM 88001 USA
SUMMARY:Standard Single Single
URL:/site/bmx_races/449540
END:VEVENT
END:VCALENDAR
