BEGIN:VCALENDAR
VERSION:2.0
PRODID:icalendar-ruby
CALSCALE:GREGORIAN
METHOD:PUBLISH
BEGIN:VEVENT
DTSTAMP:20260424T143911Z
UID:c7a42240-5ab1-4e97-a6a7-47b2ba7f634a
DTSTART;VALUE=DATE:20201023
DTEND;VALUE=DATE:20201023
DESCRIPTION:Apple Valley BMX Moto Park
LOCATION:24320 Highway 18  Apple Valley CA 92307 USA
SUMMARY:Standard Double Double
URL:/site/bmx_races/449464
END:VEVENT
END:VCALENDAR
