BEGIN:VCALENDAR
VERSION:2.0
PRODID:icalendar-ruby
CALSCALE:GREGORIAN
METHOD:PUBLISH
BEGIN:VEVENT
DTSTAMP:20260424T101223Z
UID:74c87228-7d4f-433c-b32e-a79b11775266
DTSTART;VALUE=DATE:20210123
DTEND;VALUE=DATE:20210123
DESCRIPTION:Peninsula Indoor BMX
LOCATION:5867 Dogwood Road Se  Port Orchard WA 98367 USA
SUMMARY:Local Race Single
URL:/site/bmx_races/449090
END:VEVENT
END:VCALENDAR
