BEGIN:VCALENDAR
VERSION:2.0
PRODID:icalendar-ruby
CALSCALE:GREGORIAN
METHOD:PUBLISH
BEGIN:VEVENT
DTSTAMP:20260424T133519Z
UID:bf5b8b76-55ac-4259-a791-c30bc12be573
DTSTART;VALUE=DATE:20201121
DTEND;VALUE=DATE:20201121
DESCRIPTION:Cargill Park BMX
LOCATION:2800 Cargill Drive  Shreveport LA 71108 USA
SUMMARY:Standard Single Single
URL:/site/bmx_races/448937
END:VEVENT
END:VCALENDAR
