BEGIN:VCALENDAR
VERSION:2.0
PRODID:icalendar-ruby
CALSCALE:GREGORIAN
METHOD:PUBLISH
BEGIN:VEVENT
DTSTAMP:20260425T215257Z
UID:eb52f633-37e5-460b-87ef-1fcb6d8f94e8
DTSTART;VALUE=DATE:20210529
DTEND;VALUE=DATE:20210529
DESCRIPTION:The Hill BMX
LOCATION:709 Sports Way  Elgin IL 60123 USA
SUMMARY:Local Race Single
URL:/site/bmx_races/448681
END:VEVENT
END:VCALENDAR
