BEGIN:VCALENDAR
VERSION:2.0
PRODID:icalendar-ruby
CALSCALE:GREGORIAN
METHOD:PUBLISH
BEGIN:VEVENT
DTSTAMP:20260424T072237Z
UID:ff857614-0801-4499-9967-e7464a2685b8
DTSTART;VALUE=DATE:20211017
DTEND;VALUE=DATE:20211017
DESCRIPTION:Akron BMX
LOCATION:800 Derby Downs Drive  Akron OH 44306 USA
SUMMARY:Local Race Single
URL:/site/bmx_races/448562
END:VEVENT
END:VCALENDAR
