BEGIN:VCALENDAR
VERSION:2.0
PRODID:icalendar-ruby
CALSCALE:GREGORIAN
METHOD:PUBLISH
BEGIN:VEVENT
DTSTAMP:20260424T133528Z
UID:1477a89a-b773-4d71-ac38-0d1e2a4e08a4
DTSTART;VALUE=DATE:20130907
DTEND;VALUE=DATE:20130907
DESCRIPTION:Dacono BMX
LOCATION:113 Forest Ave  Dacono CO 80514 USA
SUMMARY:Local Race Single
URL:/site/bmx_races/44852
END:VEVENT
END:VCALENDAR
