BEGIN:VCALENDAR
VERSION:2.0
PRODID:icalendar-ruby
CALSCALE:GREGORIAN
METHOD:PUBLISH
BEGIN:VEVENT
DTSTAMP:20260425T114248Z
UID:c8243a2d-40c7-40e6-a543-28add5f3f941
DTSTART;VALUE=DATE:20210909
DTEND;VALUE=DATE:20210909
DESCRIPTION:Imagination Glen BMX
LOCATION:2190 N State Rd 149  Portage IN 46304 USA
SUMMARY:Local Race Single
URL:/site/bmx_races/448330
END:VEVENT
END:VCALENDAR
