BEGIN:VCALENDAR
VERSION:2.0
PRODID:icalendar-ruby
CALSCALE:GREGORIAN
METHOD:PUBLISH
BEGIN:VEVENT
DTSTAMP:20260425T024620Z
UID:72085c10-a70d-4c2b-9370-b11f46dced46
DTSTART;VALUE=DATE:20210805
DTEND;VALUE=DATE:20210805
DESCRIPTION:Imagination Glen BMX
LOCATION:2190 N State Rd 149  Portage IN 46304 USA
SUMMARY:Local Race Single
URL:/site/bmx_races/448310
END:VEVENT
END:VCALENDAR
