BEGIN:VCALENDAR
VERSION:2.0
PRODID:icalendar-ruby
CALSCALE:GREGORIAN
METHOD:PUBLISH
BEGIN:VEVENT
DTSTAMP:20260424T184704Z
UID:7d5a1ac3-adb8-49d0-bfe9-c223f9abacde
DTSTART;VALUE=DATE:20210128
DTEND;VALUE=DATE:20210128
DESCRIPTION:Steel Wheels Indoor BMX
LOCATION:709 N Hobart Rd  Hobart IN 46350 USA
SUMMARY:Local Race Single
URL:/site/bmx_races/448185
END:VEVENT
END:VCALENDAR
