BEGIN:VCALENDAR
VERSION:2.0
PRODID:icalendar-ruby
CALSCALE:GREGORIAN
METHOD:PUBLISH
BEGIN:VEVENT
DTSTAMP:20260425T025547Z
UID:5105e45c-fed5-4452-9aad-6ab73b77b2d1
DTSTART;VALUE=DATE:20201021
DTEND;VALUE=DATE:20201021
DESCRIPTION:Cape Coral BMX
LOCATION:1410 Sw 6th Place  Cape Coral FL 33991 USA
SUMMARY:Standard Single Single
URL:/site/bmx_races/448164
END:VEVENT
END:VCALENDAR
