BEGIN:VCALENDAR
VERSION:2.0
PRODID:icalendar-ruby
CALSCALE:GREGORIAN
METHOD:PUBLISH
BEGIN:VEVENT
DTSTAMP:20260425T011624Z
UID:b196ba53-d8d2-419c-92e1-d60b2f3073a6
DTSTART;VALUE=DATE:20210615
DTEND;VALUE=DATE:20210615
DESCRIPTION:Rock City BMX
LOCATION:3300 10 Mile Road  Rockford MI 49341 USA
SUMMARY:Local Race Single
URL:/site/bmx_races/448108
END:VEVENT
END:VCALENDAR
