BEGIN:VCALENDAR
VERSION:2.0
PRODID:icalendar-ruby
CALSCALE:GREGORIAN
METHOD:PUBLISH
BEGIN:VEVENT
DTSTAMP:20260424T094136Z
UID:43239b34-3dd0-4103-8927-baacbfd1e3b4
DTSTART;VALUE=DATE:20201018
DTEND;VALUE=DATE:20201018
DESCRIPTION:Noonday BMX
LOCATION:547 Shallowford Rd Ne  Marietta GA 30144 USA
SUMMARY:Standard Single Single
URL:/site/bmx_races/447830
END:VEVENT
END:VCALENDAR
