BEGIN:VCALENDAR
VERSION:2.0
PRODID:icalendar-ruby
CALSCALE:GREGORIAN
METHOD:PUBLISH
BEGIN:VEVENT
DTSTAMP:20260425T141950Z
UID:b740413c-157d-4cbe-bef3-4571d0b0cd84
DTSTART;VALUE=DATE:20201009
DTEND;VALUE=DATE:20201009
DESCRIPTION:Caldwell BMX
LOCATION:4700 Skyway St  Caldwell ID 83605 USA
SUMMARY:Standard Single Single
URL:/site/bmx_races/447660
END:VEVENT
END:VCALENDAR
