BEGIN:VCALENDAR
VERSION:2.0
PRODID:icalendar-ruby
CALSCALE:GREGORIAN
METHOD:PUBLISH
BEGIN:VEVENT
DTSTAMP:20260424T154719Z
UID:81a77173-58f3-4cdd-95e5-2bfeba5d72ee
DTSTART;VALUE=DATE:20201013
DTEND;VALUE=DATE:20201013
DESCRIPTION:Lakes Area BMX
LOCATION:10415 Town Hall Street  Brainerd MN 56401 USA
SUMMARY:Standard Single Single
URL:/site/bmx_races/447140
END:VEVENT
END:VCALENDAR
