BEGIN:VCALENDAR
VERSION:2.0
PRODID:icalendar-ruby
CALSCALE:GREGORIAN
METHOD:PUBLISH
BEGIN:VEVENT
DTSTAMP:20260425T155430Z
UID:c4edf618-3fc8-45ef-9a8c-36160d53776b
DTSTART;VALUE=DATE:20200908
DTEND;VALUE=DATE:20200908
DESCRIPTION:Grand Traverse County BMX
LOCATION:3625 Nimrod Rd  Traverse County MI 49685 USA
SUMMARY:Standard Single Single
URL:/site/bmx_races/447002
END:VEVENT
END:VCALENDAR
