BEGIN:VCALENDAR
VERSION:2.0
PRODID:icalendar-ruby
CALSCALE:GREGORIAN
METHOD:PUBLISH
BEGIN:VEVENT
DTSTAMP:20260424T090209Z
UID:fecdc4b4-d51a-438f-8cf7-f3df21bfe2e1
DTSTART;VALUE=DATE:20200925
DTEND;VALUE=DATE:20200925
DESCRIPTION:Gretna BMX Raceway
LOCATION:800 Gretna Blvd  Gretna LA 70053 USA
SUMMARY:Standard Single Single
URL:/site/bmx_races/446908
END:VEVENT
END:VCALENDAR
