BEGIN:VCALENDAR
VERSION:2.0
PRODID:icalendar-ruby
CALSCALE:GREGORIAN
METHOD:PUBLISH
BEGIN:VEVENT
DTSTAMP:20260424T090210Z
UID:c84e9b03-f708-46a8-af8e-6cf4c4973ab1
DTSTART;VALUE=DATE:20200912
DTEND;VALUE=DATE:20200912
DESCRIPTION:Yukon BMX
LOCATION:Taylor Park Sports Complex   410 N 11th St Yukon OK 73064 USA
SUMMARY:Standard Single Single
URL:/site/bmx_races/446664
END:VEVENT
END:VCALENDAR
