BEGIN:VCALENDAR
VERSION:2.0
PRODID:icalendar-ruby
CALSCALE:GREGORIAN
METHOD:PUBLISH
BEGIN:VEVENT
DTSTAMP:20260425T200103Z
UID:0a3bce68-11be-40c9-b626-6fa9f2bb7b79
DTSTART;VALUE=DATE:20200917
DTEND;VALUE=DATE:20200917
DESCRIPTION:Pineview Park BMX
LOCATION:6540 Saukview Dr  St. Cloud MN 56303 USA
SUMMARY:Race For Life Single
URL:/site/bmx_races/446533
END:VEVENT
END:VCALENDAR
