BEGIN:VCALENDAR
VERSION:2.0
PRODID:icalendar-ruby
CALSCALE:GREGORIAN
METHOD:PUBLISH
BEGIN:VEVENT
DTSTAMP:20260424T121235Z
UID:afb862e7-01ed-46d1-b964-e52ff96dfb65
DTSTART;VALUE=DATE:20201010
DTEND;VALUE=DATE:20201010
DESCRIPTION:Desoto BMX
LOCATION:Grimes Park 500 E. Centre Park Blvd Desoto TX 75115 USA
SUMMARY:Standard Single Single
URL:/site/bmx_races/446214
END:VEVENT
END:VCALENDAR
