BEGIN:VCALENDAR
VERSION:2.0
PRODID:icalendar-ruby
CALSCALE:GREGORIAN
METHOD:PUBLISH
BEGIN:VEVENT
DTSTAMP:20260424T184724Z
UID:0ac17987-4809-4a66-9168-b81092dfa6c4
DTSTART;VALUE=DATE:20200926
DTEND;VALUE=DATE:20200926
DESCRIPTION:Desoto BMX
LOCATION:Grimes Park 500 E. Centre Park Blvd Desoto TX 75115 USA
SUMMARY:Standard Single Single
URL:/site/bmx_races/446212
END:VEVENT
END:VCALENDAR
