BEGIN:VCALENDAR
VERSION:2.0
PRODID:icalendar-ruby
CALSCALE:GREGORIAN
METHOD:PUBLISH
BEGIN:VEVENT
DTSTAMP:20260425T114129Z
UID:7f9325ac-0926-4c26-8ccf-40401ab4131a
DTSTART;VALUE=DATE:20210820
DTEND;VALUE=DATE:20210820
DESCRIPTION:Tucson BMX
LOCATION:9245 E Irvington  Tucson AZ 85730 USA
SUMMARY:Local Race Single
URL:/site/bmx_races/445760
END:VEVENT
END:VCALENDAR
