BEGIN:VCALENDAR
VERSION:2.0
PRODID:icalendar-ruby
CALSCALE:GREGORIAN
METHOD:PUBLISH
BEGIN:VEVENT
DTSTAMP:20260424T144000Z
UID:88b2970f-7a83-4a2e-808f-f57067b42679
DTSTART;VALUE=DATE:20200910
DTEND;VALUE=DATE:20200910
DESCRIPTION:Penticton BMX
LOCATION:630 Munson Mountain Road  Penticton BC V2A 8S5 CAN
SUMMARY:Standard Single Single
URL:/site/bmx_races/445482
END:VEVENT
END:VCALENDAR
