BEGIN:VCALENDAR
VERSION:2.0
PRODID:icalendar-ruby
CALSCALE:GREGORIAN
METHOD:PUBLISH
BEGIN:VEVENT
DTSTAMP:20260425T115207Z
UID:b4d4a60d-694a-494a-a33f-4d3c836ef293
DTSTART;VALUE=DATE:20200808
DTEND;VALUE=DATE:20200808
DESCRIPTION:Wolfe Creek BMX
LOCATION:22843 Creek Road  Chatham ON  CAN
SUMMARY:Standard Single Single
URL:/site/bmx_races/444958
END:VEVENT
END:VCALENDAR
