BEGIN:VCALENDAR
VERSION:2.0
PRODID:icalendar-ruby
CALSCALE:GREGORIAN
METHOD:PUBLISH
BEGIN:VEVENT
DTSTAMP:20260424T131201Z
UID:2a306ea6-d40d-403f-88c4-609953f5216f
DTSTART;VALUE=DATE:20200731
DTEND;VALUE=DATE:20200731
DESCRIPTION:Gretna BMX Raceway
LOCATION:800 Gretna Blvd  Gretna LA 70053 USA
SUMMARY:Standard Single Single
URL:/site/bmx_races/444832
END:VEVENT
END:VCALENDAR
