BEGIN:VCALENDAR
VERSION:2.0
PRODID:icalendar-ruby
CALSCALE:GREGORIAN
METHOD:PUBLISH
BEGIN:VEVENT
DTSTAMP:20260424T184749Z
UID:934d4d60-b361-4cfa-93e6-f1f0351b79c2
DTSTART;VALUE=DATE:20201120
DTEND;VALUE=DATE:20201120
DESCRIPTION:Santa Clara PAL BMX
LOCATION:5401 Lafayette Street  Santa Clara CA 95051 USA
SUMMARY:Standard Single Single
URL:/site/bmx_races/444750
END:VEVENT
END:VCALENDAR
