BEGIN:VCALENDAR
VERSION:2.0
PRODID:icalendar-ruby
CALSCALE:GREGORIAN
METHOD:PUBLISH
BEGIN:VEVENT
DTSTAMP:20260424T233832Z
UID:dfa8b4e2-0971-4007-87de-072351353135
DTSTART;VALUE=DATE:20200911
DTEND;VALUE=DATE:20200911
DESCRIPTION:Santa Clara PAL BMX
LOCATION:5401 Lafayette Street  Santa Clara CA 95051 USA
SUMMARY:Standard Single Single
URL:/site/bmx_races/444730
END:VEVENT
END:VCALENDAR
