BEGIN:VCALENDAR
VERSION:2.0
PRODID:icalendar-ruby
CALSCALE:GREGORIAN
METHOD:PUBLISH
BEGIN:VEVENT
DTSTAMP:20260424T233626Z
UID:68a793fd-14bb-43c6-944f-d0565aac1553
DTSTART;VALUE=DATE:20200725
DTEND;VALUE=DATE:20200725
DESCRIPTION:Eagle Park BMX
LOCATION:11800 N Horseshoe Bend Rd  Eagle ID 83616 USA
SUMMARY:Qualifier/State Triple
URL:/site/bmx_races/444672
END:VEVENT
END:VCALENDAR
