BEGIN:VCALENDAR
VERSION:2.0
PRODID:icalendar-ruby
CALSCALE:GREGORIAN
METHOD:PUBLISH
BEGIN:VEVENT
DTSTAMP:20260424T215350Z
UID:055837a0-78b6-4fd6-90a7-5a284f53bed9
DTSTART;VALUE=DATE:20200814
DTEND;VALUE=DATE:20200814
DESCRIPTION:Desoto BMX
LOCATION:Grimes Park 500 E. Centre Park Blvd Desoto TX 75115 USA
SUMMARY:Warnicke Single
URL:/site/bmx_races/444565
END:VEVENT
END:VCALENDAR
