BEGIN:VCALENDAR
VERSION:2.0
PRODID:icalendar-ruby
CALSCALE:GREGORIAN
METHOD:PUBLISH
BEGIN:VEVENT
DTSTAMP:20260425T201654Z
UID:eff95307-bf06-4989-8219-d9078916ee13
DTSTART;VALUE=DATE:20200830
DTEND;VALUE=DATE:20200830
DESCRIPTION:Rad Canyon BMX
LOCATION:5200 W 9800 S  West Jordan UT 84081 USA
SUMMARY:Standard Single Single
URL:/site/bmx_races/444544
END:VEVENT
END:VCALENDAR
