BEGIN:VCALENDAR
VERSION:2.0
PRODID:icalendar-ruby
CALSCALE:GREGORIAN
METHOD:PUBLISH
BEGIN:VEVENT
DTSTAMP:20260425T113648Z
UID:97b92da3-7cf2-428c-a911-9ba06cb74e25
DTSTART;VALUE=DATE:20200719
DTEND;VALUE=DATE:20200719
DESCRIPTION:Cowtown BMX
LOCATION:447 Haltom Rd  Ft. Worth TX 76117 USA
SUMMARY:Standard Triple Triple
URL:/site/bmx_races/444493
END:VEVENT
END:VCALENDAR
