BEGIN:VCALENDAR
VERSION:2.0
PRODID:icalendar-ruby
CALSCALE:GREGORIAN
METHOD:PUBLISH
BEGIN:VEVENT
DTSTAMP:20260425T142016Z
UID:f9376e56-a6c8-4155-83aa-8151cbc17e31
DTSTART;VALUE=DATE:20200712
DTEND;VALUE=DATE:20200712
DESCRIPTION:Westerville BMX
LOCATION:535 Park Meadow Road  Westerville OH 43081 USA
SUMMARY:Standard Double Double
URL:/site/bmx_races/444373
END:VEVENT
END:VCALENDAR
