BEGIN:VCALENDAR
VERSION:2.0
PRODID:icalendar-ruby
CALSCALE:GREGORIAN
METHOD:PUBLISH
BEGIN:VEVENT
DTSTAMP:20260424T232556Z
UID:4a7fea34-5b1a-4a1f-b380-3a5838fdde25
DTSTART;VALUE=DATE:20200718
DTEND;VALUE=DATE:20200718
DESCRIPTION:Peninsula Indoor BMX
LOCATION:5867 Dogwood Road Se  Port Orchard WA 98367 USA
SUMMARY:Standard Single Single
URL:/site/bmx_races/444276
END:VEVENT
END:VCALENDAR
