BEGIN:VCALENDAR
VERSION:2.0
PRODID:icalendar-ruby
CALSCALE:GREGORIAN
METHOD:PUBLISH
BEGIN:VEVENT
DTSTAMP:20260424T230529Z
UID:c2dea33d-441f-414c-b3cd-c579a860ddb9
DTSTART;VALUE=DATE:20200704
DTEND;VALUE=DATE:20200704
DESCRIPTION:Fernley BMX
LOCATION:212 Mull Ln  Fernley NV 89408 USA
SUMMARY:Standard Single Single
URL:/site/bmx_races/443651
END:VEVENT
END:VCALENDAR
