BEGIN:VCALENDAR
VERSION:2.0
PRODID:icalendar-ruby
CALSCALE:GREGORIAN
METHOD:PUBLISH
BEGIN:VEVENT
DTSTAMP:20260424T172232Z
UID:e0d34e0b-b933-45a3-bf86-3b0d7896f473
DTSTART;VALUE=DATE:20200618
DTEND;VALUE=DATE:20200618
DESCRIPTION:Cabot BMX
LOCATION:2351 Willie Ray Road  Cabot AR 72023 USA
SUMMARY:Standard Single Single
URL:/site/bmx_races/443599
END:VEVENT
END:VCALENDAR
