BEGIN:VCALENDAR
VERSION:2.0
PRODID:icalendar-ruby
CALSCALE:GREGORIAN
METHOD:PUBLISH
BEGIN:VEVENT
DTSTAMP:20260424T131156Z
UID:e0711ede-38d9-41f0-81fa-f522a990216b
DTSTART;VALUE=DATE:20210321
DTEND;VALUE=DATE:20210321
DESCRIPTION:Grand Valley BMX
LOCATION:2785 U.S. Highway 50  Grand Junction CO 81503 USA
SUMMARY:Local Race Single
URL:/site/bmx_races/443280
END:VEVENT
END:VCALENDAR
