BEGIN:VCALENDAR
VERSION:2.0
PRODID:icalendar-ruby
CALSCALE:GREGORIAN
METHOD:PUBLISH
BEGIN:VEVENT
DTSTAMP:20260424T084421Z
UID:caa500f3-52a0-42fc-b572-25b2cab93606
DTSTART;VALUE=DATE:20200811
DTEND;VALUE=DATE:20200811
DESCRIPTION:Hunterdon County BMX
LOCATION:314 Rt 12 North  Flemington NJ 08822 USA
SUMMARY:Standard Single Single
URL:/site/bmx_races/442942
END:VEVENT
END:VCALENDAR
