BEGIN:VCALENDAR
VERSION:2.0
PRODID:icalendar-ruby
CALSCALE:GREGORIAN
METHOD:PUBLISH
BEGIN:VEVENT
DTSTAMP:20260424T190154Z
UID:2e7200f4-d0f7-4ef2-8027-3675e81910c7
DTSTART;VALUE=DATE:20200813
DTEND;VALUE=DATE:20200813
DESCRIPTION:Fastrax BMX
LOCATION:2800 S 12th St  Bismarck ND 58504 USA
SUMMARY:Standard Single Single
URL:/site/bmx_races/442739
END:VEVENT
END:VCALENDAR
