BEGIN:VCALENDAR
VERSION:2.0
PRODID:icalendar-ruby
CALSCALE:GREGORIAN
METHOD:PUBLISH
BEGIN:VEVENT
DTSTAMP:20260424T082720Z
UID:d5c37f0f-53a2-44ad-be80-bb36dda2a1bd
DTSTART;VALUE=DATE:20200701
DTEND;VALUE=DATE:20200701
DESCRIPTION:Ancient City BMX
LOCATION:3005 Alan Nease Rd  St Augustine FL 32033 USA
SUMMARY:Standard Single Single
URL:/site/bmx_races/442667
END:VEVENT
END:VCALENDAR
