BEGIN:VCALENDAR
VERSION:2.0
PRODID:icalendar-ruby
CALSCALE:GREGORIAN
METHOD:PUBLISH
BEGIN:VEVENT
DTSTAMP:20260421T192321Z
UID:7dd7820f-667b-455c-ac44-9ad8b077e7b8
DTSTART;VALUE=DATE:20200623
DTEND;VALUE=DATE:20200623
DESCRIPTION:Green Lake BMX
LOCATION:221 W South Street   Spicer MN 56288 USA
SUMMARY:Practice
URL:/site/bmx_races/441820
END:VEVENT
END:VCALENDAR
